Workbook

Sheet Approach
A1: Cloud Repatriation
B2: What's the strategy to allocate total budget for a private cloud?
B3: Get public cloud price. This is the ceiling and fair comparison from tenants perspective
B4: The comparison must be fair. Ideally, take your actual multi-year ELA with the hyperscaler
B5: Cut it by half. This is your budget. Yes, aim to be half price, not just 20% cheaper
A16: TCO Comparison
B17: Cost Component
C18: We're only including some cost of public cloud to prevent over complication as the savings is already >50%. There are additional cost of hyperscalers that are not included.
C19: Guest OS, Security Software, Applications are not included as they are assumed to be identical on both on-prem vs cloud.
C20: We're not including network egress, so there is further saving
B22: Private Cloud is better for the stable and steady part of your workload.
B23: Example:
C24: The total load for your entire company fluctuates from 1K - 10K VM per year. Highly volatile. But 80% of the time it's 1K - 2K.
C25: Private Cloud | D25: 2K VM | E25: You commit on long term capacity as it's cheaper
C26: Public Cloud | D26: 0 - 8K VM | E26: You pay per use. It's demand based. While it's much more expensive per hour, it's cheaper than buying 5 years
A28: Legend used in this spreadsheet
B29: The cell values are color coded for ease of understanding
C30: This color means the cell is editable. Changing the value impacts the computed cells.
C31: This color means the cell is not editable. The value is computed.
A33: For Cost Savings with other technique such as reclaimation, see Cost Avoidance because of VCF

Sheet Summary
A2: Methodology
A24: The Numbers

Sheet Public Cloud
A1: Public Cloud: Average Price
B2: How much would you pay for a typical blank VM if you commit 1 year in advance?
B3: Let's take a single VM (4 CPU, 16 GB RAM, 500 GB SSD) as the unit of comparison, as it's a common size.
B4: The size does not actually matter as public cloud follows linear pricing. 4 vCPU is more practical in real world.
B5: Below is the actual price from all 3 hyper scalers.
D7: Total Annual Price | E7: Compute | F7: Storage | G7: Service | H7: Observability | I7: Compute:Storage Ratio
C8: AWS | D8: =(E8+F8)*1.15 -> 2501.641 | E8: 1392.58 | F8: =65.23*12 -> 782.76 | G8: Comment | H8: Included | I8: =E8/F8 -> 1.7790638
C9: Azure | D9: =E9+F9+10%*G9+5%*(E9+F9) -> 1755.64 | E9: 1095 | F9: =40.15*12 -> 481.8 | G9: 1000 | H9: Included | I9: =E9/F9 -> 2.2727273
C10: GCP | D10: =E10+F10+10%*G10+5%*(E10+F10) -> 1769.466 | E10: =94.91*12 -> 1138.92 | F10: =36*12 -> 432 | G10: 1200 | H10: Included | I10: =E10/F10 -> 2.6363889
C11: Average | D11: =AVERAGE(D8:D10) -> 2008.9157 | E11: =AVERAGE(E8:E10) -> 1208.8333 | F11: =AVERAGE(F8:F10) -> 565.52 | G11: =AVERAGE(G8:G10) -> 1100
C12: CPU is not latest generation. Xeon Gen 5 or AMD EPYC Gen 4. ARM will be cheaper, but most apps are not supported
C13: For details of how each of the above numbers are obtained, see the Power Point deck at for the screenshot from all 3 websites.
A15: Normalization
B16: We need to translate the above $2009 into per 1 vCPU, 1 GB RAM and 1 TB of disk space
B17: This is the VM size we use, hence we need to divide by these
C18: CPU | D18: 4 | E18: vCPU
C19: Memory | D19: 16
C20: Disk | D20: 0.5
A22: Allocation Ratio
B23: We need to divide the $2009 into the 3 components.
B24: For simplicity, we take 1/3 each. They are also fairly close the public cloud
C25: CPU Share | D25: 0.34
C26: RAM Share | D26: 0.34
C27: Disk Share | D27: =100%-D25-D26 -> 0.32
A29: Unit Price
C30: CPU Price | D30: =D$11/D18*D25 -> 170.75783 | E30: per vCPU per year
C31: RAM Price | D31: =D$11/D19*D26 -> 42.689458 | E31: per GB per year
C32: Disk Price | D32: =D$11/D20*D27 -> 1285.706 | E32: per TB per year
B33: This is the price you need to beat. Aim for 40% cheaper
B34: Use this number to compare with your standard/default VM offering in your private cloud

Sheet Total Budget
A1: Private Cloud: Sellable Capacity
F4: The actual sellable capacity is far lower than total physical capacity. It excludes 3 items:
F5: Cluster High Availability. This is typically 10%. A cluster for 24 hosts will have 2 hosts for HA.
F6: Hypervisor overhead. NSX, vSAN, and vSphere takes up 10 - 15%
F7: Other buffer. This is typically 10 - 20%, depending on the overcommit ratio
F9: In normal operations, the above component becomes part of your headroom that protects from short burst
C15: Disaster Recovery is separate. This does not impact cost comparison as you need 2x the resource in public cloud too
A17: Private Cloud: ESXi Specification
B18: The size of the host determines the number of VMs that can run on the cluster
C19: Total Cores | E19: 64 | F19: cores. 64 is a common number for Intel and AMD
C20: Hyper Threading | E20: =E19*2 -> 128 | F20: threads. Public Cloud uses the thread instead of core. Since it's for capacity not performance, this makes more sense.
C21: Physical Memory | E21: 768
C22: Memory Tiering | E22: 2 | F22: It's set to 1x of DIMM size to be conservative
B24: Buffers
C25: Hypervisor overhead | F25: Allocation for VMkernel + vSAN + NSX. vSAN FS is a VM not kernel module hence excluded
D26: CPU | E26: 12 | F26: threads
D27: Memory | E27: 64
C28: Cluster HA | E28: 0.1 | F28: Since the model is based on 1 ESXi, we account for HA by adding buffer. Assumption is 9+1 host per cluster, hence 10% buffer
C29: Usable | E29: =(E20-E26)*(1-E28) -> 104.4 | F29: threads
B31: CPU Sellable Capacity
C32: Buffer | E32: 0.15 | F32: We only plan to utilized 85% of the capacity, after including HA + Hypervisor overhead
C33: Sellable CPU Threads | E33: =E29*(1-E32) -> 88.74 | F33: threads
C34: Total Buffer | E34: =1-(E33/E20) -> 0.30671875 | F34: this is a good, conservative buffer. It provides headroom for occasional spikes (performance, not capacity)
B37: Memory Sellable Capacity
C38: Sellable Memory | E38: =E21*(1-E28)*(1-E32)-E27 -> 523.52
C39: Sellable Memory with Memory Tiering | E39: =E38*2 -> 1047.04 | F39: Conservative, as the full amount of the NVME is actually available
A42: Private Cloud: Sellable Capacity
B43: The Standard VM
C44: Total price for 5 years | E44: ='Public Cloud'!D11*E62 -> 10044.578
C45: vCPU | E45: ='Public Cloud'!D18 -> 4 | F45: vCPU
C46: vRAM | E46: ='Public Cloud'!D19 -> 16
C47: Disk | E47: ='Public Cloud'!D20 -> 0.5
B48: CPU
C49: CPU Overcommit | E49: 2 | F49: :1 ratio between vCPU and threads. AWS uses 1:1 as they do not have DRS and do not vMotion. Customers who use core will see this as 4:1. This 4:1 is a common ratio.
C50: vCPU Sellable Capacity | E50: =E33*E49 -> 177.48 | F50: vCPU per server box
C51: No of VM per box | E51: =ROUNDDOWN(E50/E45,0) -> 44 | F51: This is the number of VM that can fit inside 1 physical server above
C52: Actual Overcommit | E52: =E51*E45/(E20-E26) -> 1.5172414 | F52: : 1 pthread. This means it's slightly lower than 3:1 when compared against physical core
B53: Memory
C54: vRAM Sellable Capacity | E54: =E39 -> 1047.04
C55: No of VM per box | E55: =ROUNDDOWN(E54/E46,0) -> 65 | F55: This is the number of VM that can fit inside 1 physical server above
...

Sheet Savings
A2: ROI is not applicable
B3: There is no return as infrastructure is an expense. The money our customers spend buying products and services never come back, let alone give them more money.
B4: To put a % next to ROI, such as VCF delivering 10% ROI is confusing. If a CIO spends $100 millions, they don’t get $110 million after 1 year.
B5: We will use Potential Savings instead. It is not a real, hard cash, savings.
B6: It is a potential, as it's the delta between Public vs Private cloud expenses.
B7: The savings is not per VM. It's on the total cost, because many vendors do ELA.
B8: It is per year, not per month or per hour, as both public and private are paid 1 year in advance.
A10: Input
B11: Number of VM | C11: 1000 | D11: I put 1000 as it's easier to think in chunk of 1K VM. In reality you will save more as the total number of VM is typically >10K
B12: Time Frame | C12: ='Total Budget'!E62 -> 5 | D12: years. Cloud keeps the hardware for 6-7 years, so it's older machine
A14: Public Cloud
B15: Cost per VM | C15: ='Total Budget'!E44 -> 10044.578
B16: ='Total Budget'!B64 -> Other costs | C16: ='Total Budget'!E64 -> 0.1 | D16: ='Total Budget'!F64 -> Other charges from public cloud, that is already included in Private Cloud, such as on-site support (well, you are their colleague) and VCF features
B17: ='Total Budget'!B65 -> 5-year ELA Discount | C17: ='Total Budget'!E65 -> 0.305 | D17: ='Total Budget'!F65 -> Assume some discount to reflect upfront payment. This means no more cloud financial flexibility benefit as you lock for 5 years
B18: Total Cost | C18: =C15*C$11*(1+C16)*(1-C17) -> 7679080.1 | D18: How does this compare with your ELA?
A20: Private Cloud
B21: Total Cost | C21: ='Total Budget'!E69 -> 169000
B22: ESXi needed | C22: =ROUNDUP(C11/'Total Budget'!E57,0) -> 23 | D22: in private cloud, the unit of purchase is 1 ESXi
B23: Total Cost | C23: =C21*C22 -> 3887000
A25: Potential Savings
B26: We need to show the savings per year
B27: In $ | C27: =ROUNDDOWN((C18-C23)/C12,-3) -> 758000 | D27: per year. In simple linear fashion
B28: In % | C28: =(C18-C23)/C18 -> 0.49381958

Sheet Unit Cost
A2: Cost vs Price
B3: Cost is what Enterprise IT incurs. It is about the infrastructure.
B4: Price is what they charge to their customers (Line of Business). It is about the workload (e.g. VM).
B5: The long term price has to be better than public cloud, so application team (Line of Business) appreciates the value.
B6: Price is dictated by public cloud, not your cost. App Team does not care if Infra Team makes a loss, so long they pay cheaper price.
A8: Input
B9: Total Cost per ESXi | D9: ='Total Budget'!E69 -> 169000 | E9: for 5 years, including VCF license
B10: Cost per year | D10: =D9/5 -> 33800
B12: ESXi: Sellable Capacity
C13: CPU Thread | D13: ='Total Budget'!E33 -> 88.74 | E13: threads
C14: Physical Memory | D14: ='Total Budget'!E38 -> 523.52 | E14: Not counting the DIMM as this is cost, not capacity
C15: Disk | D15: ='Public Cloud'!D20*'Total Budget'!E51 -> 22
A17: Cost Rationing
B18: I use the word rationing and not allocation to prevent confusion with the allocation model
B19: Need to split the cost into 3, matching public cloud calculation
C20: CPU Share | D20: 0.23 | E20: Need to manually adjust to maintain consistent price comparison with public cloud
C21: RAM Share | D21: 0.35
C22: Disk Share | D22: =1-D21-D20 -> 0.42
B24: Cost per year
C25: CPU | D25: =D$10*D20 -> 7774
C26: RAM | D26: =D$10*D21 -> 11830
C27: Disk | D27: =D$10*D22 -> 14196
A29: Unit Cost
B30: The cost per unit of resource is independant of the price and overcommit ratio
B31: It is per year, not per month or day
C32: CPU | D32: =D25/D13 -> 87.604237 | E32: per thread
C33: RAM | D33: =D26/D14 -> 22.597035 | E33: per GB of DIMM (not including memory tiering)
C34: Disk | D34: =D27/D15 -> 645.27273 | E34: per TB

Sheet VM Price
A2: Validation
B3: Your price must be lower than public cloud, yet cover your cost
B4: Public Cloud price
C5: CPU | D5: ='Public Cloud'!D30 -> 170.75783 | E5: per vCPU per year
C6: Memory | D6: ='Public Cloud'!D31 -> 42.689458 | E6: per GB per year
C7: Disk | D7: ='Public Cloud'!D32 -> 1285.706 | E7: per TB per year
B9: Private Cloud Cost
C10: CPU | D10: ='Unit Cost'!D32 -> 87.604237 | E10: per thread per year
C11: Memory | D11: ='Unit Cost'!D33 -> 22.597035 | E11: per GB per year
C12: Disk | D12: ='Unit Cost'!D34 -> 645.27273 | E12: per TB per year
B14: Private Cloud Price
C15: Silver Class is the standard or default offering.
C16: Gold Class is 2x more expensive, while Bronze is half price. This only applies to Compute. Storage is same price for all for simplicity
C18: Class of Service | D18: Overcommit Ratio | E18: CPU Price | F18: Memory Price | G18: Disk Price
C19: Gold | D19: 1 vCPU : 1 pThread | E19: =E20*2 -> 175.20847 | F19: =F20*2 -> 45.194071 | G19: =G20 -> 645.27273
C20: Silver | D20: 2 vCPU : 1 pThread | E20: =D10 -> 87.604237 | F20: =D11 -> 22.597035 | G20: =D12 -> 645.27273
C21: Bronze | D21: 4 vCPU : 1 pThread | E21: =E20/2 -> 43.802119 | F21: =F20/2 -> 11.298518 | G21: =G20 -> 645.27273
C22: Profit or Buffer is not added as there is a chance you can't sell all the sellable capacity, but on the other hand you may exceed the overcommit ratio
A24: Example
B25: Let's take the sample VM we have earlier as it's easier to see the comparison this way
C26: CPU Count | D26: ='Public Cloud'!D18 -> 4
C27: Memory | D27: ='Public Cloud'!D19 -> 16
C28: Storage | D28: ='Public Cloud'!D20 -> 0.5
C30: Class of Service | D30: Total Annual Price | E30: CPU Price | F30: Memory Price | G30: Disk Price
C31: Gold | D31: =SUM(E31:G31) -> 1746.5754 | E31: =E19*D$26 -> 700.8339 | F31: =F19*D$27 -> 723.10513 | G31: =G19*D$28 -> 322.63636
C32: Silver | D32: =SUM(E32:G32) -> 1034.6059 | E32: =E20*D$26 -> 350.41695 | F32: =F20*D$27 -> 361.55257 | G32: =G20*D$28 -> 322.63636
C33: Bronze | D33: =SUM(E33:G33) -> 678.62112 | E33: =E21*D$26 -> 175.20847 | F33: =F21*D$27 -> 180.77628 | G33: =G21*D$28 -> 322.63636
C34: Public Cloud | D34: ='Public Cloud'!D11 -> 2008.9157
C36: Gold is cheaper by | D36: =1 - D31/D$34 -> 0.130588 | E36: Justified by higher reservation, better support, higher availability
C37: Silver is cheaper by | D37: =1 - D32/D$34 -> 0.48499288 | E37: This is the default VM if there is no class of service
C38: Bronze is cheaper by | D38: =1 - D33/D$34 -> 0.66219532 | E38: Suitable for test and dev environment

Sheet VKS Comparison
A2: Public Cloud
B3: K8 Managed Service | D3: 4500 | E3: per cluster per year. Typically Enterprise will say N-1 for stability, and opt for LTS version
B4: Total VM Cost | D4: ='Public Cloud'!D11 -> 2008.9157 | E4: for a 4 vCPU, 16 GB, 0.5 TB disk VM
A7: Private Cloud
B8: VM Cost | D8: ='VM Price'!D32 -> 1034.6059 | E8: Conservative. This is based on Silver.
B9: No of Master Nodes | D9: 3 | E9: Each is 4 vCPU, 16 GB RAM
B10: K8 SRE Loaded Cost | D10: =250000 -> 250000 | E10: FTE for 1 veteran K8 SRE (knows what he is doing). We assume on-premise needs 1 extra headcount per 1K VM. This is in addition to the vSphere Admin, which is already costed-in
A13: Comparison
D14: Small | E14: Medium | F14: Large
C15: No of K8 Clusters | D15: 10 | E15: 50 | F15: 200 | G15: Majority of Broadcom customers will have >100 clusters
C16: No of Worker Nodes | D16: 10 | E16: 15 | F16: 20 | G16: larger count of worker nodes will result in more savings as VKS has master node overhead
B18: Public Cloud
C19: Worker Node Cost | D19: =D$15*D$16*$D4*2 -> 401783.13 | E19: =E$15*E$16*$D4*2 -> 3013373.5 | F19: =F$15*F$16*$D4*2 -> 16071325 | G19: We use 8 CPU as K8 Node, hence the price is 2x
C20: Managed K8 Cost | D20: =$D3*D15 -> 45000 | E20: =$D3*E15 -> 225000 | F20: =$D3*F15 -> 900000
C21: Total Cost | D21: =D19+D20 -> 446783.13 | E21: =E19+E20 -> 3238373.5 | F21: =F19+F20 -> 16971325
B23: Private Cloud
C24: Total VM Count | D24: =D15*($D9+D16) -> 130 | E24: =E15*($D9+E16) -> 900 | F24: =F15*($D9+F16) -> 4600 | G24: Majority of Broadcom customers will have >1K K8 Node VM
C25: Worker Node Cost | D25: =D15*D16*$D8*2 -> 206921.18 | E25: =E15*E16*$D8*2 -> 1551908.8 | F25: =F15*F16*$D8*2 -> 8276847
C26: Master Node Cost | D26: =D15*$D9*$D8 -> 31038.176 | E26: =E15*$D9*$D8 -> 155190.88 | F26: =F15*$D9*$D8 -> 620763.53 | G26: The overhead is higher in smaller K8 as VKS needs 3 VM per Guest Cluster
C27: K8 SRE headcount | D27: =D24/1000*$D10 -> 32500 | E27: =E24/1000*$D10 -> 225000 | F27: =F24/1000*$D10 -> 1150000
C28: Total Cost | D28: =D25+D26+D27 -> 270459.35 | E28: =E25+E26+E27 -> 1932099.7 | F28: =F25+F26+F27 -> 10047611
C30: Savings | D30: =1 - D28/D21 -> 0.39465183 | E30: =1 - E28/E21 -> 0.40337342 | F30: =1 - F28/F21 -> 0.40796547

Sheet K8 Reference
A1: AWS K8
B2: Per K8 Cluster | C2: Per hour | D2: Per Year
B3: Standard version support | C3: 0.1 | D3: =C3*24*365 -> 876
B4: Extended version support | C4: 0.6 | D4: =C4*24*365 -> 5256
B6: https://komodor.com/learn/amazon-eks-pricing-quick-guide-and-6-ways-to-cut-eks-costs/
A9: Azure
B10: Standard Edition | C10: 73 | D10: =C10*12 -> 876
B11: Premium Edition | C11: 438 | D11: =C11*12 -> 5256
A14: Google K8
B15: Enterprise Edition | C15: 0.0083 | D15: per vCPU per hour
C16: =C15*10*24*365 -> 727.08 | D16: per 10 vCPU per year
B17: I assume vCPU means the EC2 vCPU
B18: Typical clusters will have 8 vCPU per node. The number of nodes vary from 4 - 64 nodes
B19: Let's take 10 nodes
B20: Annual cost is | C20: =C16*8 -> 5816.64

Sheet Sample
B19: VM profile: 4 vCPU, 16GB RAM, and 100GB NVMe storage
