Workbook
Name ESXi.CPU.Usable.Capacity.Allocation: 'Capacity Provider'!#REF!
Name ESXi.CPU.Usable.Capacity.Reservation: 'Capacity Provider'!$D$36
Name ESXi.CPU.Usable.Capacity.Utilization: 'Capacity Provider'!$D$32
Name Hypervisor.Overhead.CPU: 'Capacity Provider'!$D$29
Name Hypervisor.Overhead.Memory: 'Capacity Provider'!$D$51
Name Silver.VM.RAM: 'Capacity Consumer'!$D$19
Name Silver.VM.vCPU: 'Capacity Consumer'!$D$18

Sheet Read Me
A2: Goal
B3: How many VMs can I fit while balancing cost and performance?
B4: Obviously, the answer depends on ESXi size and size of the VMs
C5: If performance is before cost, then less VM
C6: If cost is before performance, then more VM
B7: So how do you specify the above so you arrive at the correct goal?
C8: You use 3 levers:
C9: Utilization
C10: Allocation
C11: Reservation
B12: The "performance" part is achieved by both overcommit ratio and reservation
C13: In a running environment, measure contention explicitly. It cannot be modelled
C14: Aim to meet the promised Performance SLA by measuring KPI
C15: SLA is a lagging indicator while KPI is a leading indicator
B16: What if you mix VMs with different level of importance to the business in the same cluster?
C17: You define Class of Service
C18: Each class has their own configuration, reservation, utilization and overcommit ratio
A20: Planning vs Live
B21: Planning is needed to increase the chance of successful implementation
B22: As there is no actual supply and demand, you use a spreadsheet to simulate.
B23: Live Situation
C24: Allocation changes its purpose. Since overcommit ratio is the inverse of average utilization, it's dynamic. It's not something you set in the cluster capacity setting
C25: Reservation impacts DRS and Resource Pools as it makes the "chunk" bigger. Use sparingly.
C26: Complement reservation with Share. Share is complex to manage at scale. As time passes you can also lose control on what VMs have what share when.
A42: Example
B43: How many VM will fit on a typical ESXi with 64 cores and 768 GB of RAM?
B44: Answer: | D44: =MIN(F49:G51) -> 26.4
B45: It's the lowest of the 6 numbers in the table below
C47: Capacity Model | D47: ESXi Usable Capacity | F47: VM
D48: CPU | E48: Memory | F48: CPU | G48: Memory
C49: Allocation | D49: ='Capacity Provider'!E69 -> 228 | E49: ='Capacity Provider'!E72 -> 844.8 | F49: =D49/Silver.VM.vCPU -> 28.5 | G49: =E49/Silver.VM.RAM -> 26.4
C50: Reservation | D50: =ESXi.CPU.Usable.Capacity.Reservation -> 150 | E50: ='Capacity Provider'!D55 -> 704 | F50: =D50/'Capacity Provider'!D9/(Silver.VM.vCPU*'Capacity Consumer'!D27) -> 30 | G50: =E49/(Silver.VM.RAM*'Capacity Consumer'!D29) -> 52.8
C51: Utilization | D51: =ESXi.CPU.Usable.Capacity.Utilization -> 114 | E51: ='Capacity Provider'!D55 -> 704 | F51: =D51/(Silver.VM.vCPU*'Capacity Consumer'!D22) -> 28.5 | G51: =E49/(Silver.VM.RAM*'Capacity Consumer'!D24) -> 31.058824
B52: CPU is more complex than memory. Notice it has 3 different units, while memory simply uses 1 unit
A55: How to customize this spreadsheet
B56: Which cells can you modify?
C57: Do not modify. They are formula
C58: Modify the green cells to suit your scenario

Sheet Capacity Provider
A1: Approach
B2: Separate Capacity from Availability. You do not want availability problem turns into Capacity problem and Performance problem
B3: Cluster HA is part of availability management. It is not part of the cluster capacity
B4: This spreadsheet focuses on ESXi capacity. To translate into cluster, simply multiply by the number of hosts, and then add the HA hosts
A6: Total Capacity
B7: Capacity begin with ESXi. Choose a CPU and Memory size that is balanced to avoid wastage
B8: CPU
C9: Speed (Cycles or Throughput) | D9: 2.5 | E9: Replace with the actual speed of your hardware
C10: Core | D10: 64 | E10: cores
C11: Thread (Hyper Threading) | D11: =D10*2 -> 128 | E11: threads. Capacity uses thread, not core, as this is where the vCPU runs
E12: Always enable HT as it gives 2x capacity at 37.5% performance reduction
B13: Memory | D13: 768 | E13: RAM (DIMM, not NVMe)
A15: Usable Capacity
B16: Usable is far more complex than Total as there are 3 different models. Each model has their own.
B17: Regarding capacity remaining. You run out of capacity if any of these 6 numbers reach 100%:
C18: CPU Allocation
C19: CPU Reservation
C20: CPU Utilization
C21: Memory Allocation
C22: Memory Reservation
C23: Memory Utilization
A25: Usable Capacity: CPU
B26: Utilization Model
C27: Utilization model focuses on "run or not", not "the speed during the run time". Do I have the capacity to run the VM, and not how fast the speed when it gets to run
C28: CPU Capacity uses thread as the unit, not GHz. It does not care about the speed (performance) of the CPU.
C29: Hypervisor Overhead | D29: 14 | E29: threads for ESXi + vSAN + NSX. NSX EDP adds 2-4 cores
E30: vSAN includes dedupe, compress, and heavy network services
E31: vSAN File Services not included as it's a VM
C32: Usable Capacity | D32: =D11-Hypervisor.Overhead.CPU -> 114 | E32: threads available for VM
E33: As this is the amount we can overcommit, the allocation model uses this too
B34: Reservation Model
C35: System Reservation | D35: 10 | E35: Typically this range from 6 - 14 GHz
C36: Max CPU Reservation | D36: =D9*D10 - D35 -> 150 | E36: Take note that vSphere reservation is capped using base nominal clock speed
C37: CPU Cycles
C38: There is more CPU cycles available than what can be reserved. Reservation is based on the base nominal clock speed, while real world uses turbo boost
C39: When a core is running, its actual speed varies over time.
C40: The speed impacts the throughput. A slow down is speed is not the same as VM facing CPU ready or co-stop as the CPU is still running
C41: All Core Turbo | D41: 1.25 | E41: of base frequency. Replace with the actual speed of the CPU
E42: This is the actual speed the VM gets when all cores are running
C43: Total CPU Cycles | D43: =D9*D10*1.25*D41 -> 250 | E43: HT gives 1.25x CPU cycles, not 2.x
...

Sheet Capacity Consumer
A1: ESXi Usable Capacity
B2: To keep MS Excel formula readable, we copy the data from the other sheet
B4: Usable Capacity | C4: CPU | D4: Memory
B5: Allocation Model | C5: ='Capacity Provider'!F69 -> 342 | D5: ='Capacity Provider'!F72 -> 985.6
B6: Reservation Model | C6: ='Capacity Provider'!D36 -> 150 | D6: ='Capacity Provider'!D55 -> 704
B7: Utilization Model | C7: ='Capacity Provider'!D32 -> 114 | D7: ='Capacity Provider'!D55 -> 704
A10: Average VM Size
B11: As this is just at the planning stage, it's better to use 1 VM size for each class
B12: We keep the ratio between Gold, Silver and Bronze consistent as it's easier to justify their relative positioning to app team
B13: GB RAM per vCPU | C13: 4 | D13: Adjust this higher if your workload is memory heavy
B14: CPU Speed | C14: ='Capacity Provider'!D9 -> 2.5
B16: Typical VM Size | C16: Gold | D16: Silver | E16: Bronze
B17: Allocation Model
B18: Configured CPU | C18: =D18*2 -> 16 | D18: =E18*2 -> 8 | E18: 4
B19: Configured Memory | C19: =C18*C13 -> 64 | D19: =D18*C13 -> 32 | E19: =E18*C13 -> 16
B20: Relative positioning: Gold VM is entitled to 4x the size of Bronze, while Silver is 2x
B21: Utilization Model
B22: CPU: Expected Concurrent Peak Utilization | C22: 0.35 | D22: 0.5 | E22: 0.65
B23: CPU: Size | C23: =C18*C22 -> 5.6 | D23: =D18*D22 -> 4 | E23: =E18*E22 -> 2.6
B24: Memory: Expected Concurrent Peak Utilization | C24: 0.85 | D24: =C24 -> 0.85 | E24: =D24 -> 0.85
B25: Memory: Size | C25: =C19*C24 -> 54.4 | D25: =D19*D24 -> 27.2 | E25: =E19*E24 -> 13.6
B26: Reservation Model
B27: CPU: Reserved percentage | C27: 0.5 | D27: =C27/2 -> 0.25 | E27: =D27/2 -> 0.125
B28: CPU: Size | C28: =C18*C27*$C14 -> 20 | D28: =D18*D27*$C14 -> 5 | E28: =E18*E27*$C14 -> 1.25
B29: Memory: Reserved percentage | C29: 1 | D29: 0.5 | E29: 0.25
B30: Memory: Size | C30: =C19*C29 -> 64 | D30: =D19*D29 -> 16 | E30: =E19*E29 -> 4
B31: Relative positioning: Gold VM is entitled to 4x reservation than Bronze, while Silver is 2x
B32: Reservation is set high as App Team expects good performance
B33: CPU is set lower than memory as there is relatively less capacity available in this specific ESXi hardware spec.
A36: Planning Scenarios
B37: There are 3 scenarios, covering the most common ones
B38: Aim for around 90% - 110%
B39: The reason why it's not exact (e.g. 99%) is you're at planning stage. The reality will vary.
B40: The "Overall Planned Consumption" rows have been color coded for ease of checking
B41: Demand depends on the max of VM (utilization, reservation), which we don't know as it depends on each VM
B42: Supply has Turbo Boost, which is not included as reservation can't go beyond it
B44: 1. Mostly Gold VMs
B45: Class of Service | C45: No of VM | D45: Total vCPU | E45: Total vRAM | G45: Based on Allocation | K45: Based on Reservation | M45: Based on Utilization
G46: CPU Multiplier | H46: CPU | I46: RAM Multiplier | J46: Memory | K46: CPU | L46: Memory | M46: CPU | N46: Memory
B47: Gold Class VM | C47: 6 | D47: =C47*C18 -> 96 | E47: =C47*C$19 -> 384 | G47: ='Capacity Provider'!D80 -> 3 | H47: =C47*C$18*G47 -> 288 | I47: ='Capacity Provider'!D81 -> 1.4 | J47: =C47*C$19*I47 -> 537.6 | K47: =C47*C$28 -> 120 | L47: =C47*C$30 -> 384 | M47: =D47*C$22 -> 33.6 | N47: =E47*C$24 -> 326.4
...

Sheet Cost Comparison
A1: Public Cloud Cost
B2: This is based on the average of AWS, Azure and Google GCP
B3: CPU Price | C3: 171 | D3: per vCPU per year
B4: RAM Price | C4: 43 | D4: per GB per year
B5: Public Cloud does not have Class of Service. Gold VM is treated the same way as Bronze VM. The entire philosophy of public cloud is Cattle, not Pet.
B6: The cost is likely higher as the above does not include egress network
A8: Private Cloud Cost
B9: Private Cloud total cost | C9: =165000 -> 165000 | D9: per ESXi for 5 years
B10: The cost needs to include 1 HA host per cluster. This model uses 9+1 hosts per cluster
B11: Number of ESXi Hosts in the cluster | D11: 10 | E11: ESXi hosts. 9 + 1 HA
B12: Capacity taken up by Cluster HA | D12: =1/D11 -> 0.1 | E12: 1 of 10 hosts is for availability, hence 10% buffer
A14: Planning Scenario: Mostly Gold VMs
B15: Class of Service | C15: No of VM | D15: VM Size | F15: Public Cloud Cost
D16: vCPU | E16: RAM
B17: Gold Class VM | C17: ='Capacity Consumer'!C47 -> 6 | D17: ='Capacity Consumer'!C$18 -> 16 | E17: ='Capacity Consumer'!C$19 -> 64 | F17: =C17*(D17*C$3+E17*C$4) -> 32928
B18: Silver Class VM | C18: ='Capacity Consumer'!C48 -> 4 | D18: ='Capacity Consumer'!D$18 -> 8 | E18: ='Capacity Consumer'!D$19 -> 32 | F18: =C18*(D18*C$3+E18*C$4) -> 10976
B19: Bronze Class VM | C19: ='Capacity Consumer'!C49 -> 2 | D19: ='Capacity Consumer'!E$18 -> 4 | E19: ='Capacity Consumer'!E$19 -> 16 | F19: =C19*(D19*C$3+E19*C$4) -> 2744
B20: Total | C20: =SUM(C17:C19) -> 12 | F20: =SUM(F17:F19) -> 46648
D22: 5 Year Public Cloud spending | F22: =F20*5 -> 233240
D23: Savings with Private Cloud | F23: =ROUNDDOWN(F22-C$9,-3) -> 68000
A25: Planning Scenario: Mostly Silver VMs
B26: Class of Service | C26: No of VM | D26: VM Size | F26: Public Cloud Cost
D27: vCPU | E27: RAM
B28: Gold Class VM | C28: ='Capacity Consumer'!C56 -> 2 | D28: ='Capacity Consumer'!C$18 -> 16 | E28: ='Capacity Consumer'!C$19 -> 64 | F28: =C28*(D28*C$3+E28*C$4) -> 10976
B29: Silver Class VM | C29: ='Capacity Consumer'!C57 -> 18 | D29: ='Capacity Consumer'!D$18 -> 8 | E29: ='Capacity Consumer'!D$19 -> 32 | F29: =C29*(D29*C$3+E29*C$4) -> 49392
B30: Bronze Class VM | C30: ='Capacity Consumer'!C58 -> 4 | D30: ='Capacity Consumer'!E$18 -> 4 | E30: ='Capacity Consumer'!E$19 -> 16 | F30: =C30*(D30*C$3+E30*C$4) -> 5488
B31: Total | C31: =SUM(C28:C30) -> 24 | F31: =SUM(F28:F30) -> 65856
D33: 5 Year Public Cloud spending | F33: =F31*5 -> 329280
D34: Savings with Private Cloud | F34: =ROUNDDOWN(F33-C$9,-3) -> 164000
A36: Planning Scenario: Mostly Bronze VMs
B37: Class of Service | C37: No of VM | D37: VM Size | F37: Public Cloud Cost
D38: vCPU | E38: RAM
B39: Gold Class VM | C39: ='Capacity Consumer'!C65 -> 1 | D39: ='Capacity Consumer'!C$18 -> 16 | E39: ='Capacity Consumer'!C$19 -> 64 | F39: =C39*(D39*C$3+E39*C$4) -> 5488
B40: Silver Class VM | C40: ='Capacity Consumer'!C66 -> 5 | D40: ='Capacity Consumer'!D$18 -> 8 | E40: ='Capacity Consumer'!D$19 -> 32 | F40: =C40*(D40*C$3+E40*C$4) -> 13720
B41: Bronze Class VM | C41: ='Capacity Consumer'!C67 -> 29 | D41: ='Capacity Consumer'!E$18 -> 4 | E41: ='Capacity Consumer'!E$19 -> 16 | F41: =C41*(D41*C$3+E41*C$4) -> 39788
B42: Total | C42: =SUM(C39:C41) -> 35 | F42: =SUM(F39:F41) -> 58996
D44: 5 Year Public Cloud spending | F44: =F42*5 -> 294980
D45: Savings with Private Cloud | F45: =ROUNDDOWN(F44-C$9,-3) -> 129000
A47: Reference
B48: For details how we got this number, see https://docs.google.com/spreadsheets/d/1gRXwvZSIhz_C2bEQbrHmQsudqYq47LI0xYcBBwxSXO8/edit?usp=sharing
